BEGIN:VCALENDAR
VERSION:2.0
PRODID:-//Stormont Kids Food Drive//EN
CALSCALE:GREGORIAN
METHOD:PUBLISH
BEGIN:VEVENT
DTSTART:20261220T080000
DTEND:20261220T100000
SUMMARY:🎄 Stormont Kids Food Drive — Leave Donations on Porch
DESCRIPTION:Leave your non-perishable food donations in a marked bag or box on your front porch by 10 am. The Stormont Kids will come by in the Merry Mobile to pick them up!\n\nRegister at stormontkids.ca or email stormontkids@gmail.com
LOCATION:Strathcona Park\, Kingston\, ON
URL:https://stormontkids.ca
STATUS:CONFIRMED
TRANSP:TRANSPARENT
END:VEVENT
END:VCALENDAR
